BEGIN:VCALENDAR
VERSION:2.0
PRODID:-//Study Abroad Services for International Students | Studyköy  - ECPv6.15.20//NONSGML v1.0//EN
CALSCALE:GREGORIAN
METHOD:PUBLISH
X-ORIGINAL-URL:https://studykoy.com
X-WR-CALDESC:Events for Study Abroad Services for International Students | Studyköy 
REFRESH-INTERVAL;VALUE=DURATION:PT1H
X-Robots-Tag:noindex
X-PUBLISHED-TTL:PT1H
BEGIN:VTIMEZONE
TZID:Asia/Dubai
BEGIN:STANDARD
TZOFFSETFROM:+0400
TZOFFSETTO:+0400
TZNAME:+04
DTSTART:20240101T000000
END:STANDARD
END:VTIMEZONE
BEGIN:VEVENT
DTSTART;TZID=Asia/Dubai:20251224T180000
DTEND;TZID=Asia/Dubai:20251224T190000
DTSTAMP:20260424T205119
CREATED:20251216T123030Z
LAST-MODIFIED:20251216T125928Z
UID:990632-1766599200-1766602800@studykoy.com
SUMMARY:Constructor University
DESCRIPTION:
URL:https://studykoy.com/event/constructor-university/
LOCATION:Zoom
END:VEVENT
END:VCALENDAR